BEGIN:VCALENDAR
VERSION:2.0
PRODID:-//The Three Horseshoes - ECPv6.15.20//NONSGML v1.0//EN
CALSCALE:GREGORIAN
METHOD:PUBLISH
X-WR-CALNAME:The Three Horseshoes
X-ORIGINAL-URL:https://threehorseshoes-pub.com
X-WR-CALDESC:Events for The Three Horseshoes
REFRESH-INTERVAL;VALUE=DURATION:PT1H
X-Robots-Tag:noindex
X-PUBLISHED-TTL:PT1H
BEGIN:VTIMEZONE
TZID:Europe/London
BEGIN:DAYLIGHT
TZOFFSETFROM:+0000
TZOFFSETTO:+0100
TZNAME:BST
DTSTART:20220327T010000
END:DAYLIGHT
BEGIN:STANDARD
TZOFFSETFROM:+0100
TZOFFSETTO:+0000
TZNAME:GMT
DTSTART:20221030T010000
END:STANDARD
BEGIN:DAYLIGHT
TZOFFSETFROM:+0000
TZOFFSETTO:+0100
TZNAME:BST
DTSTART:20230326T010000
END:DAYLIGHT
BEGIN:STANDARD
TZOFFSETFROM:+0100
TZOFFSETTO:+0000
TZNAME:GMT
DTSTART:20231029T010000
END:STANDARD
BEGIN:DAYLIGHT
TZOFFSETFROM:+0000
TZOFFSETTO:+0100
TZNAME:BST
DTSTART:20240331T010000
END:DAYLIGHT
BEGIN:STANDARD
TZOFFSETFROM:+0100
TZOFFSETTO:+0000
TZNAME:GMT
DTSTART:20241027T010000
END:STANDARD
END:VTIMEZONE
BEGIN:VEVENT
DTSTART;VALUE=DATE:20231027
DTEND;VALUE=DATE:20231030
DTSTAMP:20260422T174954
CREATED:20231013T201036Z
LAST-MODIFIED:20231027T122517Z
UID:4643-1698364800-1698623999@threehorseshoes-pub.com
SUMMARY:Three Horseshoes Beer Festival
DESCRIPTION:Great list of local cask and keg ales plus all our famous food. \nDJs Saturday night local legends Paul Owens and Tony Bridgeman. \n16 guest cask ales details here: BEER FESTIVAL BEER MENU
URL:https://threehorseshoes-pub.com/events/beer-festival-oct23/
LOCATION:The Three Horseshoes\, Church Street\, Stapleford\, Cambridge\, CB22 5DS\, United Kingdom
END:VEVENT
END:VCALENDAR